BEGIN:VCALENDAR
VERSION:2.0
PRODID:-//eventon.com NONSGML v1.0//EN
CALSCALE:GREGORIAN
METHOD:PUBLISH
BEGIN:VEVENT
UID:69ea4590bc10a
DTSTAMP:20260423T161512Z
DTSTART:20260425T210000Z
DTEND:20260426T045900Z
LOCATION:Sylvan Green\,  Brookings.
SUMMARY:‘80S ROCK BATTLE OF THE BANDS
DESCRIPTION:‘80S ROCK BATTLE OF THE BANDS\nhttps://605magazine.com/events
 /80s-rock-battle-of-the-bands/
URL:https://605magazine.com/events/80s-rock-battle-of-the-bands/
END:VEVENT
END:VCALENDAR